BEGIN:VCALENDAR
VERSION:2.0
PRODID:-//The Passenger Hostel - ECPv6.15.12.2//NONSGML v1.0//EN
CALSCALE:GREGORIAN
METHOD:PUBLISH
X-WR-CALNAME:The Passenger Hostel
X-ORIGINAL-URL:https://thepassengerhostel.com
X-WR-CALDESC:Events for The Passenger Hostel
REFRESH-INTERVAL;VALUE=DURATION:PT1H
X-Robots-Tag:noindex
X-PUBLISHED-TTL:PT1H
BEGIN:VTIMEZONE
TZID:UTC
BEGIN:STANDARD
TZOFFSETFROM:+0000
TZOFFSETTO:+0000
TZNAME:UTC
DTSTART:20230101T000000
END:STANDARD
END:VTIMEZONE
BEGIN:VEVENT
DTSTART;TZID=UTC:20240412T180000
DTEND;TZID=UTC:20240412T203000
DTSTAMP:20260420T094235
CREATED:20240130T211532Z
LAST-MODIFIED:20240407T143120Z
UID:225623-1712944800-1712953800@thepassengerhostel.com
SUMMARY:Sunset Gathering
DESCRIPTION:Meet us at the reception to enjoy the best sunset views with other travelers and maybe a drink or two 🙂
URL:https://thepassengerhostel.com/event/sunset-gathering-6/
LOCATION:Reception
END:VEVENT
BEGIN:VEVENT
DTSTART;TZID=UTC:20240414T213000
DTEND;TZID=UTC:20240414T233000
DTSTAMP:20260420T094235
CREATED:20230203T002517Z
LAST-MODIFIED:20240407T142828Z
UID:225467-1713130200-1713137400@thepassengerhostel.com
SUMMARY:Movie night
DESCRIPTION:Better plan for a Sunday night than watching a movie? We got you covered! Give us your movie suggestion and meet us at reception from 9:30pm
URL:https://thepassengerhostel.com/event/movie-night/
LOCATION:Reception
ATTACH;FMTTYPE=image/jpeg:https://thepassengerhostel.com/wp-content/uploads/2021/04/tph-photo-home-opti-2.jpeg
END:VEVENT
BEGIN:VEVENT
DTSTART;TZID=UTC:20240415T180000
DTEND;TZID=UTC:20240415T203000
DTSTAMP:20260420T094235
CREATED:20240130T211505Z
LAST-MODIFIED:20250625T155050Z
UID:225621-1713204000-1713213000@thepassengerhostel.com
SUMMARY:Sunset Gathering
DESCRIPTION:Meet us at the reception to enjoy the best sunset views with other travelers and maybe a drink or two 🙂
URL:https://thepassengerhostel.com/event/sunset-gathering-5/
ATTACH;FMTTYPE=image/jpeg:https://thepassengerhostel.com/wp-content/uploads/2024/04/PHOTO-2025-06-09-20-35-33-1.jpg
END:VEVENT
BEGIN:VEVENT
DTSTART;TZID=UTC:20240426T163000
DTEND;TZID=UTC:20240426T190000
DTSTAMP:20260420T094235
CREATED:20231026T221006Z
LAST-MODIFIED:20240420T182942Z
UID:225602-1714149000-1714158000@thepassengerhostel.com
SUMMARY:Wine Gathering
DESCRIPTION:Join us for a gathering around town\, meet other travelers and sip some Porto Wine in local places! Free activity\, you pay what you drink 🙂
URL:https://thepassengerhostel.com/event/wine-gathering/
LOCATION:Reception
END:VEVENT
END:VCALENDAR