BEGIN:VCALENDAR
VERSION:2.0
PRODID:-//The Passenger Hostel - ECPv6.15.12.2//NONSGML v1.0//EN
CALSCALE:GREGORIAN
METHOD:PUBLISH
X-WR-CALNAME:The Passenger Hostel
X-ORIGINAL-URL:https://thepassengerhostel.com
X-WR-CALDESC:Events for The Passenger Hostel
REFRESH-INTERVAL;VALUE=DURATION:PT1H
X-Robots-Tag:noindex
X-PUBLISHED-TTL:PT1H
BEGIN:VTIMEZONE
TZID:UTC
BEGIN:STANDARD
TZOFFSETFROM:+0000
TZOFFSETTO:+0000
TZNAME:UTC
DTSTART:20230101T000000
END:STANDARD
END:VTIMEZONE
BEGIN:VEVENT
DTSTART;TZID=UTC:20240528T173000
DTEND;TZID=UTC:20240528T193000
DTSTAMP:20260420T080442
CREATED:20230219T225150Z
LAST-MODIFIED:20251027T060029Z
UID:225549-1716917400-1716924600@thepassengerhostel.com
SUMMARY:Sip and Paint
DESCRIPTION:
URL:https://thepassengerhostel.com/event/folk-night-2/
LOCATION:3rd floor\, Portugal
END:VEVENT
END:VCALENDAR