BEGIN:VCALENDAR
VERSION:2.0
PRODID:-//The Passenger Hostel - ECPv6.15.12.2//NONSGML v1.0//EN
CALSCALE:GREGORIAN
METHOD:PUBLISH
X-ORIGINAL-URL:https://thepassengerhostel.com
X-WR-CALDESC:Events for The Passenger Hostel
REFRESH-INTERVAL;VALUE=DURATION:PT1H
X-Robots-Tag:noindex
X-PUBLISHED-TTL:PT1H
BEGIN:VTIMEZONE
TZID:UTC
BEGIN:STANDARD
TZOFFSETFROM:+0000
TZOFFSETTO:+0000
TZNAME:UTC
DTSTART:20230101T000000
END:STANDARD
END:VTIMEZONE
BEGIN:VEVENT
DTSTART;TZID=UTC:20240516T200000
DTEND;TZID=UTC:20240516T213000
DTSTAMP:20260420T094329
CREATED:20240407T143723Z
LAST-MODIFIED:20240515T110313Z
UID:225668-1715889600-1715895000@thepassengerhostel.com
SUMMARY:Portuguese Traditional Dinner
DESCRIPTION:Join us for a traditional Portuguese dinner -> good talks around the table + homemade traditional food = great time!
URL:https://thepassengerhostel.com/event/portuguese-traditional-dinner/
END:VEVENT
END:VCALENDAR