BEGIN:VCALENDAR
VERSION:2.0
PRODID:-//The Passenger Hostel - ECPv6.15.12.2//NONSGML v1.0//EN
CALSCALE:GREGORIAN
METHOD:PUBLISH
X-WR-CALNAME:The Passenger Hostel
X-ORIGINAL-URL:https://thepassengerhostel.com
X-WR-CALDESC:Events for The Passenger Hostel
REFRESH-INTERVAL;VALUE=DURATION:PT1H
X-Robots-Tag:noindex
X-PUBLISHED-TTL:PT1H
BEGIN:VTIMEZONE
TZID:UTC
BEGIN:STANDARD
TZOFFSETFROM:+0000
TZOFFSETTO:+0000
TZNAME:UTC
DTSTART:20230101T000000
END:STANDARD
END:VTIMEZONE
BEGIN:VEVENT
DTSTART;TZID=UTC:20240214T160000
DTEND;TZID=UTC:20240214T190000
DTSTAMP:20260420T150607
CREATED:20230207T120923Z
LAST-MODIFIED:20240212T095810Z
UID:225490-1707926400-1707937200@thepassengerhostel.com
SUMMARY:Visit Photography Museum
DESCRIPTION:Join us for a visit to the Photography Museum\, free entrance\, located inside an old prison. Walk around town\, meet other travelers and some of the city cool spots. \nFree activity 🙂
URL:https://thepassengerhostel.com/event/folk-night/
LOCATION:Reception
END:VEVENT
END:VCALENDAR