BEGIN:VCALENDAR
VERSION:2.0
PRODID:-//The Passenger Hostel - ECPv6.15.12.2//NONSGML v1.0//EN
CALSCALE:GREGORIAN
METHOD:PUBLISH
X-WR-CALNAME:The Passenger Hostel
X-ORIGINAL-URL:https://thepassengerhostel.com
X-WR-CALDESC:Events for The Passenger Hostel
REFRESH-INTERVAL;VALUE=DURATION:PT1H
X-Robots-Tag:noindex
X-PUBLISHED-TTL:PT1H
BEGIN:VTIMEZONE
TZID:UTC
BEGIN:STANDARD
TZOFFSETFROM:+0000
TZOFFSETTO:+0000
TZNAME:UTC
DTSTART:20250101T000000
END:STANDARD
END:VTIMEZONE
BEGIN:VEVENT
DTSTART;TZID=UTC:20260423T173000
DTEND;TZID=UTC:20260423T200000
DTSTAMP:20260423T094709
CREATED:20250729T001111Z
LAST-MODIFIED:20260420T001133Z
UID:225933-1776965400-1776974400@thepassengerhostel.com
SUMMARY:Social Walk and Sunset
DESCRIPTION:
URL:https://thepassengerhostel.com/event/hangout-8/
END:VEVENT
BEGIN:VEVENT
DTSTART;TZID=UTC:20260423T213000
DTEND;TZID=UTC:20260423T233000
DTSTAMP:20260423T094709
CREATED:20230207T122007Z
LAST-MODIFIED:20260420T001200Z
UID:225497-1776979800-1776987000@thepassengerhostel.com
SUMMARY:Game Night
DESCRIPTION:
URL:https://thepassengerhostel.com/event/karaoke-night-2/
LOCATION:Reception
ATTACH;FMTTYPE=image/png:https://thepassengerhostel.com/wp-content/uploads/2024/04/Captura-de-ecra-2025-06-25-as-16.57.21.png
END:VEVENT
END:VCALENDAR