BEGIN:VCALENDAR
VERSION:2.0
PRODID:-//The Passenger Hostel - ECPv6.15.12.2//NONSGML v1.0//EN
CALSCALE:GREGORIAN
METHOD:PUBLISH
X-WR-CALNAME:The Passenger Hostel
X-ORIGINAL-URL:https://thepassengerhostel.com
X-WR-CALDESC:Events for The Passenger Hostel
REFRESH-INTERVAL;VALUE=DURATION:PT1H
X-Robots-Tag:noindex
X-PUBLISHED-TTL:PT1H
BEGIN:VTIMEZONE
TZID:UTC
BEGIN:STANDARD
TZOFFSETFROM:+0000
TZOFFSETTO:+0000
TZNAME:UTC
DTSTART:20250101T000000
END:STANDARD
END:VTIMEZONE
BEGIN:VEVENT
DTSTART;TZID=UTC:20260420T173000
DTEND;TZID=UTC:20260420T200000
DTSTAMP:20260420T012358
CREATED:20250707T191915Z
LAST-MODIFIED:20260420T000732Z
UID:225878-1776706200-1776715200@thepassengerhostel.com
SUMMARY:Social Walk & Sunset
DESCRIPTION:Meet us at the reception to enjoy the best sunset views with other travelers and maybe a drink or two 🙂
URL:https://thepassengerhostel.com/event/social-walk-sunset/
ATTACH;FMTTYPE=image/jpeg:https://thepassengerhostel.com/wp-content/uploads/2024/04/PHOTO-2025-06-09-20-35-33-1.jpg
END:VEVENT
BEGIN:VEVENT
DTSTART;TZID=UTC:20260420T213000
DTEND;TZID=UTC:20260420T230000
DTSTAMP:20260420T012358
CREATED:20250707T192319Z
LAST-MODIFIED:20260420T000749Z
UID:225888-1776720600-1776726000@thepassengerhostel.com
SUMMARY:Quiz Night
DESCRIPTION:Challenge your knowledge and have fun!!!!! 🙂
URL:https://thepassengerhostel.com/event/quiz-night/
END:VEVENT
BEGIN:VEVENT
DTSTART;TZID=UTC:20260420T230000
DTEND;TZID=UTC:20260420T233000
DTSTAMP:20260420T012358
CREATED:20240412T152049Z
LAST-MODIFIED:20260420T000801Z
UID:225675-1776726000-1776727800@thepassengerhostel.com
SUMMARY:Hangout
DESCRIPTION:Let’s have a great night!
URL:https://thepassengerhostel.com/event/hangout-11/
LOCATION:Reception
ATTACH;FMTTYPE=image/jpeg:https://thepassengerhostel.com/wp-content/uploads/2023/06/PHOTO-2025-06-24-23-01-07.jpg
END:VEVENT
END:VCALENDAR