BEGIN:VCALENDAR
VERSION:2.0
PRODID:-//The Passenger Hostel - ECPv6.15.12.2//NONSGML v1.0//EN
CALSCALE:GREGORIAN
METHOD:PUBLISH
X-WR-CALNAME:The Passenger Hostel
X-ORIGINAL-URL:https://thepassengerhostel.com
X-WR-CALDESC:Events for The Passenger Hostel
REFRESH-INTERVAL;VALUE=DURATION:PT1H
X-Robots-Tag:noindex
X-PUBLISHED-TTL:PT1H
BEGIN:VTIMEZONE
TZID:UTC
BEGIN:STANDARD
TZOFFSETFROM:+0000
TZOFFSETTO:+0000
TZNAME:UTC
DTSTART:20250101T000000
END:STANDARD
END:VTIMEZONE
BEGIN:VEVENT
DTSTART;TZID=UTC:20260216T170000
DTEND;TZID=UTC:20260216T190000
DTSTAMP:20260420T062356
CREATED:20250729T000915Z
LAST-MODIFIED:20260216T012700Z
UID:225928-1771261200-1771268400@thepassengerhostel.com
SUMMARY:SipAnd Paint
DESCRIPTION:Grab a glass of wine\, let your creativity flow\, and enjoy a fun sip and paint night with friends.
URL:https://thepassengerhostel.com/event/social-walk-sunset-3/
END:VEVENT
BEGIN:VEVENT
DTSTART;TZID=UTC:20260216T213000
DTEND;TZID=UTC:20260216T233000
DTSTAMP:20260420T062356
CREATED:20251006T024143Z
LAST-MODIFIED:20260216T012832Z
UID:226027-1771277400-1771284600@thepassengerhostel.com
SUMMARY:Quiz Night
DESCRIPTION:Let’s play a game and meet some passengers 🙂
URL:https://thepassengerhostel.com/event/hangout-10/
END:VEVENT
BEGIN:VEVENT
DTSTART;TZID=UTC:20260413T173000
DTEND;TZID=UTC:20260413T200000
DTSTAMP:20260420T062356
CREATED:20250728T235950Z
LAST-MODIFIED:20260413T050445Z
UID:225916-1776101400-1776110400@thepassengerhostel.com
SUMMARY:Social walk & Sunset
DESCRIPTION:Meet us at the reception to enjoy the bestsunset views with other travelers and maybe a drink or two 🙂
URL:https://thepassengerhostel.com/event/hangout-7/
ATTACH;FMTTYPE=image/jpeg:https://thepassengerhostel.com/wp-content/uploads/2024/04/PHOTO-2025-06-09-20-35-33-1.jpg
END:VEVENT
BEGIN:VEVENT
DTSTART;TZID=UTC:20260420T173000
DTEND;TZID=UTC:20260420T200000
DTSTAMP:20260420T062356
CREATED:20250707T191915Z
LAST-MODIFIED:20260420T000732Z
UID:225878-1776706200-1776715200@thepassengerhostel.com
SUMMARY:Social Walk & Sunset
DESCRIPTION:Meet us at the reception to enjoy the best sunset views with other travelers and maybe a drink or two 🙂
URL:https://thepassengerhostel.com/event/social-walk-sunset/
ATTACH;FMTTYPE=image/jpeg:https://thepassengerhostel.com/wp-content/uploads/2024/04/PHOTO-2025-06-09-20-35-33-1.jpg
END:VEVENT
BEGIN:VEVENT
DTSTART;TZID=UTC:20260420T213000
DTEND;TZID=UTC:20260420T230000
DTSTAMP:20260420T062356
CREATED:20250707T192319Z
LAST-MODIFIED:20260420T000749Z
UID:225888-1776720600-1776726000@thepassengerhostel.com
SUMMARY:Quiz Night
DESCRIPTION:Challenge your knowledge and have fun!!!!! 🙂
URL:https://thepassengerhostel.com/event/quiz-night/
END:VEVENT
BEGIN:VEVENT
DTSTART;TZID=UTC:20260420T230000
DTEND;TZID=UTC:20260420T233000
DTSTAMP:20260420T062356
CREATED:20240412T152049Z
LAST-MODIFIED:20260420T000801Z
UID:225675-1776726000-1776727800@thepassengerhostel.com
SUMMARY:Hangout
DESCRIPTION:Let’s have a great night!
URL:https://thepassengerhostel.com/event/hangout-11/
LOCATION:Reception
ATTACH;FMTTYPE=image/jpeg:https://thepassengerhostel.com/wp-content/uploads/2023/06/PHOTO-2025-06-24-23-01-07.jpg
END:VEVENT
BEGIN:VEVENT
DTSTART;TZID=UTC:20260421T173000
DTEND;TZID=UTC:20260421T200000
DTSTAMP:20260420T062356
CREATED:20250728T234943Z
LAST-MODIFIED:20260420T000817Z
UID:225911-1776792600-1776801600@thepassengerhostel.com
SUMMARY:Social Walk & Sunset
DESCRIPTION:Meet us at the reception to enjoy the best sunset views with other travelers and maybe a drink or two 🙂
URL:https://thepassengerhostel.com/event/beach-day/
END:VEVENT
BEGIN:VEVENT
DTSTART;TZID=UTC:20260421T220000
DTEND;TZID=UTC:20260421T220000
DTSTAMP:20260420T062356
CREATED:20250707T190754Z
LAST-MODIFIED:20260420T000850Z
UID:225864-1776808800-1776808800@thepassengerhostel.com
SUMMARY:Hangout
DESCRIPTION:Let’s go out! Meet us at reception at 10PM for a free hostel hangout – we’ll take you to one of our favorite local bar areas to mix\, mingle\, and meet fellow travelers
URL:https://thepassengerhostel.com/event/hangout-6/
END:VEVENT
BEGIN:VEVENT
DTSTART;TZID=UTC:20260421T230000
DTEND;TZID=UTC:20260422T000000
DTSTAMP:20260420T062356
CREATED:20230212T140315Z
LAST-MODIFIED:20260420T005935Z
UID:225544-1776812400-1776816000@thepassengerhostel.com
SUMMARY:Game Night
DESCRIPTION:Let’s have a fun night!!!! 😉
URL:https://thepassengerhostel.com/event/sunset-gathering-3/
LOCATION:3rd floor\, Portugal
END:VEVENT
BEGIN:VEVENT
DTSTART;TZID=UTC:20260422T163000
DTEND;TZID=UTC:20260422T183000
DTSTAMP:20260420T062356
CREATED:20250707T191743Z
LAST-MODIFIED:20260420T000909Z
UID:225874-1776875400-1776882600@thepassengerhostel.com
SUMMARY:Social Walk & Sunset
DESCRIPTION:Meet us at the reception to enjoy the best sunset views with other travelers and maybe a drink or two 🙂 \n 
URL:https://thepassengerhostel.com/event/social-walk-sunset-4/
END:VEVENT
BEGIN:VEVENT
DTSTART;TZID=UTC:20260422T200000
DTEND;TZID=UTC:20260422T210000
DTSTAMP:20260420T062356
CREATED:20240407T143320Z
LAST-MODIFIED:20260420T000927Z
UID:225664-1776888000-1776891600@thepassengerhostel.com
SUMMARY:Free Dinner Night
DESCRIPTION:Join us for Free Dinner Night – good vibes\, great food\, and even better company! Just register at reception and grab any drink from the bar to enjoy your free dinner
URL:https://thepassengerhostel.com/event/pasta-night/
ATTACH;FMTTYPE=image/jpeg:https://thepassengerhostel.com/wp-content/uploads/2024/04/PHOTO-2025-05-25-21-14-33.jpg
END:VEVENT
BEGIN:VEVENT
DTSTART;TZID=UTC:20260422T213000
DTEND;TZID=UTC:20260422T233000
DTSTAMP:20260420T062356
CREATED:20230202T235359Z
LAST-MODIFIED:20260420T001027Z
UID:225461-1776893400-1776900600@thepassengerhostel.com
SUMMARY:Karaoke Night + Hangout
DESCRIPTION:Either you love or hate to sing\, one thing can’t be denied: Karaoke nights are suuuuuper fun! Meet us at the reception to listen to incredible skilled singers (or not) and have a drink by the bar! See you there
URL:https://thepassengerhostel.com/event/karaoke-night/
LOCATION:Reception
ATTACH;FMTTYPE=image/png:https://thepassengerhostel.com/wp-content/uploads/2024/04/Captura-de-ecra-2025-06-25-as-16.57.21.png
END:VEVENT
BEGIN:VEVENT
DTSTART;TZID=UTC:20260423T173000
DTEND;TZID=UTC:20260423T200000
DTSTAMP:20260420T062356
CREATED:20250729T001111Z
LAST-MODIFIED:20260420T001133Z
UID:225933-1776965400-1776974400@thepassengerhostel.com
SUMMARY:Social Walk and Sunset
DESCRIPTION:
URL:https://thepassengerhostel.com/event/hangout-8/
END:VEVENT
BEGIN:VEVENT
DTSTART;TZID=UTC:20260423T213000
DTEND;TZID=UTC:20260423T233000
DTSTAMP:20260420T062356
CREATED:20230207T122007Z
LAST-MODIFIED:20260420T001200Z
UID:225497-1776979800-1776987000@thepassengerhostel.com
SUMMARY:Game Night
DESCRIPTION:
URL:https://thepassengerhostel.com/event/karaoke-night-2/
LOCATION:Reception
ATTACH;FMTTYPE=image/png:https://thepassengerhostel.com/wp-content/uploads/2024/04/Captura-de-ecra-2025-06-25-as-16.57.21.png
END:VEVENT
BEGIN:VEVENT
DTSTART;TZID=UTC:20260424T164500
DTEND;TZID=UTC:20260424T180000
DTSTAMP:20260420T062356
CREATED:20250630T094331Z
LAST-MODIFIED:20260420T001303Z
UID:225855-1777049100-1777053600@thepassengerhostel.com
SUMMARY:Social Walk & Sunset
DESCRIPTION:Meet us at the reception to enjoy the best sunset views with other travelers and maybe a drink or two 🙂
URL:https://thepassengerhostel.com/event/hangout-4/
END:VEVENT
BEGIN:VEVENT
DTSTART;TZID=UTC:20260424T200000
DTEND;TZID=UTC:20260424T213000
DTSTAMP:20260420T062356
CREATED:20250707T191951Z
LAST-MODIFIED:20260420T001333Z
UID:225880-1777060800-1777066200@thepassengerhostel.com
SUMMARY:Free Dinner Night
DESCRIPTION:Join us for a Dinner Night filled with great food\, good vibes\, and unforgettable moments! 😉 :3
URL:https://thepassengerhostel.com/event/hangout-9/
END:VEVENT
BEGIN:VEVENT
DTSTART;TZID=UTC:20260424T223000
DTEND;TZID=UTC:20260424T233000
DTSTAMP:20260420T062356
CREATED:20250625T173627Z
LAST-MODIFIED:20260420T005200Z
UID:225846-1777069800-1777073400@thepassengerhostel.com
SUMMARY:Hangout
DESCRIPTION:Let’s go out! Meet us at reception at 10PM for a free hostel hangout – we’ll take you to one of our favorite local bar areas to mix\, mingle\, and meet fellow travelers
URL:https://thepassengerhostel.com/event/hangout-2/
END:VEVENT
BEGIN:VEVENT
DTSTART;TZID=UTC:20260425T174500
DTEND;TZID=UTC:20260425T200000
DTSTAMP:20260420T062356
CREATED:20240412T152027Z
LAST-MODIFIED:20260420T005413Z
UID:225673-1777139100-1777147200@thepassengerhostel.com
SUMMARY:Morning at the Flea Market
DESCRIPTION:Morning at the flea market\, coffee in hand\, sun coming up\, and rows of random treasures waiting to be found. 😉
URL:https://thepassengerhostel.com/event/sunset-gathering-7/
LOCATION:Reception
ATTACH;FMTTYPE=image/jpeg:https://thepassengerhostel.com/wp-content/uploads/2024/04/PHOTO-2025-06-09-20-35-33-1.jpg
END:VEVENT
BEGIN:VEVENT
DTSTART;TZID=UTC:20260425T193000
DTEND;TZID=UTC:20260425T233000
DTSTAMP:20260420T062356
CREATED:20250630T093329Z
LAST-MODIFIED:20260420T005603Z
UID:225853-1777145400-1777159800@thepassengerhostel.com
SUMMARY:25 of April Celebrations
DESCRIPTION:April 25 in Portugal\, streets full\, red carnations everywhere\, and freedom in the air.
URL:https://thepassengerhostel.com/event/hangout-3/
ATTACH;FMTTYPE=image/jpeg:https://thepassengerhostel.com/wp-content/uploads/2023/06/PHOTO-2025-06-24-23-01-07.jpg
END:VEVENT
BEGIN:VEVENT
DTSTART;TZID=UTC:20260425T213000
DTEND;TZID=UTC:20260425T233000
DTSTAMP:20260420T062356
CREATED:20230202T235143Z
LAST-MODIFIED:20260420T005621Z
UID:225456-1777152600-1777159800@thepassengerhostel.com
SUMMARY:Hangout
DESCRIPTION:Enjoy great vibes\, and have an unforgettable night with friends. ✨
URL:https://thepassengerhostel.com/event/game-night/
LOCATION:3rd floor\, Portugal
END:VEVENT
BEGIN:VEVENT
DTSTART;TZID=UTC:20260426T200000
DTEND;TZID=UTC:20260426T213000
DTSTAMP:20260420T062356
CREATED:20230528T185134Z
LAST-MODIFIED:20260420T005740Z
UID:225588-1777233600-1777239000@thepassengerhostel.com
SUMMARY:Free Dinner  Night
DESCRIPTION:let’s have a great dinner with nice people around\, sounds good? 😉
URL:https://thepassengerhostel.com/event/game-night-2/
LOCATION:Reception
END:VEVENT
BEGIN:VEVENT
DTSTART;TZID=UTC:20260426T213000
DTEND;TZID=UTC:20260426T233000
DTSTAMP:20260420T062356
CREATED:20240412T152408Z
LAST-MODIFIED:20260420T005756Z
UID:225680-1777239000-1777246200@thepassengerhostel.com
SUMMARY:Karaoke Night + Hangout
DESCRIPTION:Either you love or hate to sing\, one thing can’t be denied: Karaoke nights are suuuuuper fun! Meet us at the reception to listen to incredible skilled singers (or not) and have a drink by the bar! See you there
URL:https://thepassengerhostel.com/event/karaoke-night-3/
LOCATION:Reception
ATTACH;FMTTYPE=image/png:https://thepassengerhostel.com/wp-content/uploads/2024/04/Captura-de-ecra-2025-06-25-as-16.57.21.png
END:VEVENT
BEGIN:VEVENT
DTSTART;TZID=UTC:20260426T213000
DTEND;TZID=UTC:20260426T233000
DTSTAMP:20260420T062356
CREATED:20250625T165008Z
LAST-MODIFIED:20260420T005723Z
UID:225837-1777239000-1777246200@thepassengerhostel.com
SUMMARY:Social walk Sunset
DESCRIPTION:
URL:https://thepassengerhostel.com/event/hangout/
LOCATION:Reception
ATTACH;FMTTYPE=image/jpeg:https://thepassengerhostel.com/wp-content/uploads/2023/06/PHOTO-2025-06-24-23-01-07.jpg
END:VEVENT
END:VCALENDAR