BEGIN:VCALENDAR
VERSION:2.0
PRODID:-//The Passenger Hostel - ECPv6.15.12.2//NONSGML v1.0//EN
CALSCALE:GREGORIAN
METHOD:PUBLISH
X-ORIGINAL-URL:https://thepassengerhostel.com
X-WR-CALDESC:Events for The Passenger Hostel
REFRESH-INTERVAL;VALUE=DURATION:PT1H
X-Robots-Tag:noindex
X-PUBLISHED-TTL:PT1H
BEGIN:VTIMEZONE
TZID:UTC
BEGIN:STANDARD
TZOFFSETFROM:+0000
TZOFFSETTO:+0000
TZNAME:UTC
DTSTART:20230101T000000
END:STANDARD
END:VTIMEZONE
BEGIN:VEVENT
DTSTART;TZID=UTC:20240511T210000
DTEND;TZID=UTC:20240511T233000
DTSTAMP:20260420T094356
CREATED:20240218T131433Z
LAST-MODIFIED:20240503T171728Z
UID:225643-1715461200-1715470200@thepassengerhostel.com
SUMMARY:Zouk Night
DESCRIPTION:Meet us at the 3rd floor\, grab a drink and enjoy the rhythms of Zouk music!
URL:https://thepassengerhostel.com/event/forro-night/
LOCATION:3rd floor\, Portugal
END:VEVENT
END:VCALENDAR